BEGIN:VCALENDAR
VERSION:2.0
PRODID:-//swoogo.com//NONSGML kigkonsult.se iCalcreator 2.41.90//
CALSCALE:GREGORIAN
UID:62353661-6537-4362-b034-663561366264
BEGIN:VEVENT
UID:c58c8025ed43511db367a073acc625cc33f4692a@swoogo.com
DTSTAMP:20260420T172811Z
DESCRIPTION:Feline pancreatitis remains a diagnostic and therapeutic challe
 nge\, particularly in its chronic form. This webinar will review emerging 
 evidence on the diagnosis and management of pancreatitis in cats\, with a 
 focus on practical applications in clinical practice. Participants will le
 arn how to integrate and interpret available diagnostic modalities to impr
 ove diagnostic accuracy\, gain a clearer understanding of the expected cli
 nical course of chronic pancreatitis\, and apply current treatment strateg
 ies to optimize long-term management. This session is designed to provide 
 clinicians with evidence-based updates and actionable guidance for improvi
 ng outcomes in cats with suspected or confirmed pancreatitis.
DTSTART:20260211T190000Z
DTEND:20260211T203000Z
LAST-MODIFIED:20260420T172811Z
LOCATION:https://idexx.swoogo.com/021126XenoulisSpecialistWebinar/v/e
SEQUENCE:0
STATUS:CONFIRMED
SUMMARY:2.11.26 Specialist Webinar Xenoulis Pancreatitis in Cats-What's New
  in Diagnosis and Treatment
TRANSP:OPAQUE
X-ALT-DESC;FMTTYPE=text/html:<p>Feline pancreatitis remains a diagnostic an
 d therapeutic challenge\, particularly in its chronic form. This webinar w
 ill review emerging evidence on the diagnosis and management of pancreatit
 is in cats\, with a focus on practical applications in clinical practice. 
 Participants will learn how to integrate and interpret available diagnosti
 c modalities to improve diagnostic accuracy\, gain a clearer understanding
  of the expected clinical course of chronic pancreatitis\, and apply curre
 nt treatment strategies to optimize long-term management. This session is 
 designed to provide clinicians with evidence-based updates and actionable 
 guidance for improving outcomes in cats with suspected or confirmed pancre
 atitis.</p>
BEGIN:VALARM
UID:61653732-6131-4233-a638-633037326132
ACTION:DISPLAY
DESCRIPTION:Feline pancreatitis remains a diagnostic and therapeutic challe
 nge\, particularly in its chronic form. This webinar will review emerging 
 evidence on the diagnosis and management of pancreatitis in cats\, with a 
 focus on practical applications in clinical practice. Participants will le
 arn how to integrate and interpret available diagnostic modalities to impr
 ove diagnostic accuracy\, gain a clearer understanding of the expected cli
 nical course of chronic pancreatitis\, and apply current treatment strateg
 ies to optimize long-term management. This session is designed to provide 
 clinicians with evidence-based updates and actionable guidance for improvi
 ng outcomes in cats with suspected or confirmed pancreatitis.
TRIGGER:-PT15M
END:VALARM
END:VEVENT
END:VCALENDAR
